BEGIN:VCALENDAR
VERSION:2.0
PRODID:-//CGRemich.eu - ECPv4.9.14//NONSGML v1.0//EN
CALSCALE:GREGORIAN
METHOD:PUBLISH
X-WR-CALNAME:CGRemich.eu
X-ORIGINAL-URL:https://cgremich.eu/de
X-WR-CALDESC:Veranstaltungen im CGRemich.eu
BEGIN:VTIMEZONE
TZID:Europe/Paris
BEGIN:DAYLIGHT
TZOFFSETFROM:+0100
TZOFFSETTO:+0200
TZNAME:CEST
DTSTART:20200329T010000
END:DAYLIGHT
BEGIN:STANDARD
TZOFFSETFROM:+0200
TZOFFSETTO:+0100
TZNAME:CET
DTSTART:20201025T010000
END:STANDARD
END:VTIMEZONE
BEGIN:VEVENT
DTSTART;TZID=Europe/Paris:20200725T103000
DTEND;TZID=Europe/Paris:20200726T233000
DTSTAMP:20200123T152130
CREATED:20191213T132410Z
LAST-MODIFIED:20191213T132546Z
UID:2960-1595673000-1595806200@cgremich.eu
SUMMARY:Gréin
DESCRIPTION:
URL:https://cgremich.eu/de/event/grein-4/
LOCATION:Remich\, Luxembourg
CATEGORIES:CGRemich
END:VEVENT
END:VCALENDAR